BEGIN:VCALENDAR
VERSION:2.0
PRODID:SchoolNow
CALSCALE:GREGORIAN
BEGIN:VEVENT
UID:2479d588-1f1a-11f1-af09-0a58a9feac02
DTSTAMP:20260330T195547Z
SUMMARY:Algebra I REGENTS EXAM
URL;VALUE=URI:https://www.uticaschools.org/departments/guidance-counseling-
 services/calendar/8915522/algebra-i-regents-exam
DTSTART:20260617T120000Z
DTEND:20260617T140000Z
END:VEVENT
END:VCALENDAR
