BEGIN:VCALENDAR
VERSION:2.0
PRODID:SchoolNow
CALSCALE:GREGORIAN
BEGIN:VEVENT
UID:3636cf42-dd8f-11ef-8e76-0e956362e35d
DTSTAMP:20250128T154743Z
SUMMARY:Boys (JFK/DMS) 7th/8th Swimming/Diving New Hartford\, Rome Free Aca
 demy @ Holland Patent
LOCATION:Holland Patent HS-Pool
URL;VALUE=URI:https://www.uticaschools.org/departments/athletics/calendar/7
 388054/boys-jfk-dms-7th-8th-swimming-diving-new-hartford-rome-free-academy
 -holland-patent
DTSTART:20250115T220000Z
DTEND:20250115T230000Z
END:VEVENT
END:VCALENDAR
