BEGIN:VCALENDAR
VERSION:2.0
PRODID:SchoolNow
CALSCALE:GREGORIAN
BEGIN:VEVENT
UID:32573cf4-dd8f-11ef-9299-0e956362e35d
DTSTAMP:20250128T154736Z
SUMMARY:(B) V Volleyball - Practice (8:30 AM)
LOCATION:PHS AUX Gym (Volleyball gym)
URL;VALUE=URI:https://www.uticaschools.org/departments/athletics/calendar/7
 387253/b-v-volleyball-practice-8-30-am
DTSTART:20250103T133000Z
DTEND:20250103T150000Z
END:VEVENT
END:VCALENDAR
