BEGIN:VCALENDAR
VERSION:2.0
PRODID:SchoolNow
CALSCALE:GREGORIAN
BEGIN:VEVENT
UID:309ca890-dd8f-11ef-8de1-0e956362e35d
DTSTAMP:20250128T154733Z
SUMMARY:Boys (DMS) 7th/8th Basketball v. New Hartford (Red)
LOCATION:Donovan Gym
URL;VALUE=URI:https://www.uticaschools.org/departments/athletics/calendar/7
 386897/boys-dms-7th-8th-basketball-v-new-hartford-red
DTSTART:20250130T210000Z
DTEND:20250130T220000Z
END:VEVENT
END:VCALENDAR
