BEGIN:VCALENDAR
VERSION:2.0
PRODID:SchoolNow
CALSCALE:GREGORIAN
BEGIN:VEVENT
UID:309c5228-dd8f-11ef-9f60-0e956362e35d
DTSTAMP:20250128T154733Z
SUMMARY:POSTPONED: Girls (JFK) 7th/8th Volleyball @ Oneida (orange)
LOCATION:57 Gym
URL;VALUE=URI:https://www.uticaschools.org/departments/athletics/calendar/7
 386853/postponed-girls-jfk-7th-8th-volleyball-oneida-orange
DTSTART:20250128T221500Z
DTEND:20250128T231500Z
END:VEVENT
END:VCALENDAR
