BEGIN:VCALENDAR
VERSION:2.0
PRODID:SchoolNow
CALSCALE:GREGORIAN
BEGIN:VEVENT
UID:3029cb22-dd8f-11ef-921c-0e956362e35d
DTSTAMP:20250128T154732Z
SUMMARY:Girls Junior Varsity Basketball @ Camden
LOCATION:Camden High School Main Gym
URL;VALUE=URI:https://www.uticaschools.org/departments/athletics/calendar/7
 386773/girls-junior-varsity-basketball-camden
DTSTART:20250113T220000Z
DTEND:20250113T230000Z
END:VEVENT
END:VCALENDAR
